BEGIN:VCALENDAR
VERSION:2.0
PRODID:-//Tukios.com/
BEGIN:VEVENT
UID:6cdf6afd-3eca-4222-935f-c64ffef2fea1@www.bradshawfuneral.com
DTSTAMP:20260422T005701Z
DTSTART:20260429T190000Z
DTEND:20260429T200000Z
SUMMARY:Graveside Service
DESCRIPTION:
URL:https://www.bradshawfuneral.com/obituaries/arlene-trombley
LOCATION:Forest Lawn Memorial Park 1800 Edgerton St.  Saint Paul MN 55117
GEO:44.9972595;-93.0730071
END:VEVENT
END:VCALENDAR