BEGIN:VCALENDAR
VERSION:2.0
PRODID:-//Tukios.com/
BEGIN:VEVENT
UID:c31debf1-d6d9-4df7-87c9-45a6a579ec72@www.bradshawfuneral.com
DTSTAMP:20260422T010020Z
DTSTART:20260429T160000Z
DTEND:20260429T170000Z
SUMMARY:Funeral Service
DESCRIPTION:
URL:https://www.bradshawfuneral.com/obituaries/arlene-trombley
LOCATION:Bradshaw Celebration of Life Center 4600 Greenhaven Dr.  White 
	Bear MN 55127
GEO:45.0796871;-93.0715741
END:VEVENT
END:VCALENDAR