BEGIN:VCALENDAR
VERSION:2.0
PRODID:-//Tukios.com/
BEGIN:VEVENT
UID:db26f3af-ecd6-403d-a523-faf4180aaa44@www.bradshawfuneral.com
DTSTAMP:20260422T005232Z
DTSTART:20260429T150000Z
DTEND:20260429T160000Z
SUMMARY:Visitation
DESCRIPTION:
URL:https://www.bradshawfuneral.com/obituaries/arlene-trombley
LOCATION:Bradshaw Celebration of Life Center 4600 Greenhaven Dr.  White 
	Bear MN 55127
GEO:45.0796871;-93.0715741
END:VEVENT
END:VCALENDAR