BEGIN:VCALENDAR
VERSION:2.0
PRODID:-//Tukios.com/
BEGIN:VEVENT
UID:f0a8dc9e-ccf1-45d9-bae6-b690f1c08395@www.bradshawfuneral.com
DTSTAMP:20260424T000946Z
DTSTART:20260425T160000Z
DTEND:20260425T190000Z
SUMMARY:Gathering of Friends and Family
DESCRIPTION:
URL:https://www.bradshawfuneral.com/obituaries/jean-zahler
LOCATION: 263 3rd St N  Bayport MN 55003
GEO:45.0182263;-92.7792269
END:VEVENT
END:VCALENDAR