BEGIN:VCALENDAR
VERSION:2.0
PRODID:-//Tukios.com/
BEGIN:VEVENT
UID:f3692d2d-5e12-400b-a690-4dce9cfdf403@www.bradshawfuneral.com
DTSTAMP:20260421T210949Z
DTSTART:20260428T170000Z
DTEND:20260428T180000Z
SUMMARY:Celebration of Life
DESCRIPTION:Family will receive friends following the service.
URL:https://www.bradshawfuneral.com/obituaries/jon-larson
LOCATION: 2800 Curve Crest Blvd  Stillwater MN 55082
GEO:45.0380666;-92.8460513
END:VEVENT
END:VCALENDAR