BEGIN:VCALENDAR
VERSION:2.0
PRODID:-//Tukios.com/
BEGIN:VEVENT
UID:7e7d9b31-eac4-452f-ad16-a108eca277d0@www.bradshawfuneral.com
DTSTAMP:20260422T235017Z
DTSTART:20260429T210000Z
DTEND:20260430T000000Z
SUMMARY:Celebration of Life
DESCRIPTION:
URL:https://www.bradshawfuneral.com/obituaries/joseph-ek
LOCATION:Celebration of Life Center - Stillwater 2800 Curve Crest Blvd.  
	Stillwater MN 55082
GEO:45.0380666;-92.8460513
END:VEVENT
END:VCALENDAR