BEGIN:VCALENDAR
VERSION:2.0
PRODID:-//Tukios.com/
BEGIN:VEVENT
UID:a8a05e85-84da-437e-9160-61f53e41b684@www.bradshawfuneral.com
DTSTAMP:20260423T102211Z
DTSTART:20260507T160000Z
DTEND:20260507T170000Z
SUMMARY:Mass
DESCRIPTION:
URL:https://www.bradshawfuneral.com/obituaries/karen-fredrick
LOCATION:St. John the Evangelist of Little Canada Catholic Church 380 
	Little Canada Road E.  Saint Paul MN 55117
GEO:45.0206879;-93.0851865
END:VEVENT
END:VCALENDAR