BEGIN:VCALENDAR
VERSION:2.0
PRODID:-//Tukios.com/
BEGIN:VEVENT
UID:76ce8f9e-d54e-4157-8c72-e2f54df32385@www.bradshawfuneral.com
DTSTAMP:20260422T024558Z
DTSTART:20260507T183000Z
DTEND:20260507T190000Z
SUMMARY:Graveside Service
DESCRIPTION:
URL:https://www.bradshawfuneral.com/obituaries/lorraine-grieman
LOCATION:St. Genevieve Cemetery 1795 Main Street  Hugo MN 55038
GEO:45.1647032;-93.0516138
END:VEVENT
END:VCALENDAR