BEGIN:VCALENDAR
VERSION:2.0
PRODID:-//Tukios.com/
BEGIN:VEVENT
UID:c36e02d5-3cff-4d7f-aab9-993da15bc52e@www.bradshawfuneral.com
DTSTAMP:20260422T024522Z
DTSTART:20260507T160000Z
DTEND:20260507T170000Z
SUMMARY:Mass of Christian Burial
DESCRIPTION:
URL:https://www.bradshawfuneral.com/obituaries/lorraine-grieman
LOCATION:St. Genevieve Parish Community Center 6995 Centerville Road  
	Centerville MN 55038
GEO:45.1603599;-93.0584058
END:VEVENT
END:VCALENDAR