BEGIN:VCALENDAR
VERSION:2.0
PRODID:-//Tukios.com/
BEGIN:VEVENT
UID:eeb7aa99-fe8b-4957-bdcb-f8bf5b7e31d3@www.bradshawfuneral.com
DTSTAMP:20260422T023541Z
DTSTART:20260507T150000Z
DTEND:20260507T160000Z
SUMMARY:Visitation
DESCRIPTION:
URL:https://www.bradshawfuneral.com/obituaries/lorraine-grieman
LOCATION:St. Genevieve Parish Community Center 6995 Centerville Road  
	Centerville MN 55038
GEO:45.1603599;-93.0584058
END:VEVENT
END:VCALENDAR