BEGIN:VCALENDAR
VERSION:2.0
PRODID:-//Tukios.com/
BEGIN:VEVENT
UID:a845b969-e5fd-4219-a79d-b954514ce93f@www.bradshawfuneral.com
DTSTAMP:20260425T235715Z
DTSTART:20260502T160000Z
DTEND:20260502T190000Z
SUMMARY:Celebration of Life
DESCRIPTION:
URL:https://www.bradshawfuneral.com/obituaries/patrese-heiser
LOCATION:Searle Mansion 1915 Logan Avenue South  Minneapolis MN 55403
GEO:44.9638077;-93.3028967
END:VEVENT
END:VCALENDAR