BEGIN:VCALENDAR
VERSION:2.0
PRODID:-//Tukios.com/
BEGIN:VEVENT
UID:e5291538-fb1b-4292-b3f9-71d194812e84@www.bradshawfuneral.com
DTSTAMP:20260423T235244Z
DTSTART:20260523T160000Z
DTEND:20260523T170000Z
SUMMARY:Funeral Service
DESCRIPTION:
URL:https://www.bradshawfuneral.com/obituaries/steven-spencer
LOCATION:Grace Episcopal Church 4557 Colfax Ave S  Minneapolis MN 55419
GEO:45.0130453;-93.1552395
END:VEVENT
END:VCALENDAR