BEGIN:VCALENDAR
VERSION:2.0
PRODID:-//Tukios.com/
BEGIN:VEVENT
UID:d5b7486c-b048-4d11-8020-9da08f6c7f0d@www.bradshawfuneral.com
DTSTAMP:20260423T191459Z
DTSTART:20260507T170000Z
DTEND:20260507T183000Z
SUMMARY:Luncheon
DESCRIPTION:
URL:https://www.bradshawfuneral.com/obituaries/thomas-rykel
LOCATION:Rice Street Chapel 1078 Rice St  Saint Paul MN 55117
GEO:44.9736348;-93.1056025
END:VEVENT
END:VCALENDAR