BEGIN:VCALENDAR
VERSION:2.0
PRODID:-//Tukios.com/
BEGIN:VEVENT
UID:85644b87-363f-4ec7-9ee2-07ff633602d6@www.bradshawfuneral.com
DTSTAMP:20260423T191747Z
DTSTART:20260507T150000Z
DTEND:20260507T170000Z
SUMMARY:Memorial Service
DESCRIPTION:
URL:https://www.bradshawfuneral.com/obituaries/thomas-rykel
LOCATION:Rice Street Chapel 1078 Rice St  Saint Paul MN 55117
GEO:44.9736348;-93.1056025
END:VEVENT
END:VCALENDAR