BEGIN:VCALENDAR
VERSION:2.0
PRODID:-//Tukios.com/
BEGIN:VEVENT
UID:6dd3c5b3-b863-40a1-9ad4-26274a6b0dab@www.bradshawfuneral.com
DTSTAMP:20260421T165828Z
DTSTART:20260502T170000Z
DTEND:20260502T190000Z
SUMMARY:Visitation
DESCRIPTION:
URL:https://www.bradshawfuneral.com/obituaries/todd-wolf
LOCATION:Bethel Lutheran Church 504 Frontage Rd  Hudson WI 54016
GEO:44.9665957;-92.7015115
END:VEVENT
END:VCALENDAR