BEGIN:VCALENDAR
VERSION:2.0
PRODID:-//Tukios.com/
BEGIN:VEVENT
UID:d726a9dd-540c-413c-ac85-933778ded679@www.bradshawfuneral.com
DTSTAMP:20260421T170653Z
DTSTART:20260502T190000Z
DTEND:20260502T200000Z
SUMMARY:Celebration of Life
DESCRIPTION:
URL:https://www.bradshawfuneral.com/obituaries/todd-wolf
LOCATION:Bethel Lutheran Church 504 Frontage Rd  Hudson WI 54016
GEO:44.9665957;-92.7015115
END:VEVENT
END:VCALENDAR